BEGIN:VCALENDAR
VERSION:2.0
PRODID:-//California Center for Digital Arts - ECPv6.15.20//NONSGML v1.0//EN
CALSCALE:GREGORIAN
METHOD:PUBLISH
X-WR-CALNAME:California Center for Digital Arts
X-ORIGINAL-URL:https://www.centerfordigitalarts.com
X-WR-CALDESC:Events for California Center for Digital Arts
REFRESH-INTERVAL;VALUE=DURATION:PT1H
X-Robots-Tag:noindex
X-PUBLISHED-TTL:PT1H
BEGIN:VTIMEZONE
TZID:America/Los_Angeles
BEGIN:DAYLIGHT
TZOFFSETFROM:-0800
TZOFFSETTO:-0700
TZNAME:PDT
DTSTART:20250309T100000
END:DAYLIGHT
BEGIN:STANDARD
TZOFFSETFROM:-0700
TZOFFSETTO:-0800
TZNAME:PST
DTSTART:20251102T090000
END:STANDARD
BEGIN:DAYLIGHT
TZOFFSETFROM:-0800
TZOFFSETTO:-0700
TZNAME:PDT
DTSTART:20260308T100000
END:DAYLIGHT
BEGIN:STANDARD
TZOFFSETFROM:-0700
TZOFFSETTO:-0800
TZNAME:PST
DTSTART:20261101T090000
END:STANDARD
BEGIN:DAYLIGHT
TZOFFSETFROM:-0800
TZOFFSETTO:-0700
TZNAME:PDT
DTSTART:20270314T100000
END:DAYLIGHT
BEGIN:STANDARD
TZOFFSETFROM:-0700
TZOFFSETTO:-0800
TZNAME:PST
DTSTART:20271107T090000
END:STANDARD
END:VTIMEZONE
BEGIN:VEVENT
DTSTART;TZID=America/Los_Angeles:20260515T173000
DTEND;TZID=America/Los_Angeles:20260516T230000
DTSTAMP:20260423T162107
CREATED:20250618T201750Z
LAST-MODIFIED:20260423T185411Z
UID:10000436-1778866200-1778972400@www.centerfordigitalarts.com
SUMMARY:Milky Way Photography Experience for Beginners – Borrego Springs
DESCRIPTION:For more information and to register\, click here.
URL:https://www.centerfordigitalarts.com/event/milky-way-photography-experience-for-beginners-borrego-springs/2026-05-15/
END:VEVENT
END:VCALENDAR